BEGIN:VCALENDAR
VERSION:2.0
PRODID:-//hacksw/handcal//NONSGML v1.0//EN
BEGIN:VEVENT
SUMMARY:TTSN 2 contre Deauville 2
UID:1df0e479-4a76-461e-9767-1f5e74ca2d94
DTSTART:20260528T220000Z
DTEND:20260529T220000Z
LOCATION:Localisation   
CATEGORIES:Sportif
STATUS:
URL;VALUE=URI:https://ttsn14.sportsregions.fr/evenements/2026/05/29/ttsn-2-contre-deauville-2-2423691
END:VEVENT
END:VCALENDAR
