BEGIN:VCALENDAR
VERSION:2.0
PRODID:-//hacksw/handcal//NONSGML v1.0//EN
BEGIN:VEVENT
SUMMARY:TTSN 4 contre Conde sur Noireau 8
UID:30f5e810-46bc-4f5d-8ec9-d29b4c93bfcc
DTSTART:20260423T220000Z
DTEND:20260424T220000Z
LOCATION:Localisation   
CATEGORIES:Sportif
STATUS:
URL;VALUE=URI:https://ttsn14.sportsregions.fr/evenements/2026/04/24/ttsn-4-contre-conde-sur-noireau-8-2423707
END:VEVENT
END:VCALENDAR
