BEGIN:VCALENDAR
VERSION:2.0
PRODID:-//hacksw/handcal//NONSGML v1.0//EN
BEGIN:VEVENT
SUMMARY:Ouistreham 11 contre TTSN 3
UID:bbcbe67b-527b-408e-a58f-25cede6f63a8
DTSTART:20251211T230000Z
DTEND:20251212T230000Z
LOCATION:Localisation   
CATEGORIES:Sportif
STATUS:
URL;VALUE=URI:https://ttsn14.sportsregions.fr/evenements/2025/12/12/ouistreham-11-contre-ttsn-3-2357160
END:VEVENT
END:VCALENDAR
